{
 "currentVersion": 11.0,
 "serviceDescription": "UKR/UKRImagery_13_3_2024",
 "name": "UKR/UKRImagery_13_3_2024",
 "description": "",
 "extent": {
  "xmin": 30.10987390535128,
  "ymin": 50.26813198004649,
  "xmax": 30.430284795351277,
  "ymax": 50.72978929004649,
  "spatialReference": {
   "wkid": 4326,
   "latestWkid": 4326
  }
 },
 "initialExtent": {
  "xmin": 30.10987390535128,
  "ymin": 50.26813198004649,
  "xmax": 30.430284795351277,
  "ymax": 50.72978929004649,
  "spatialReference": {
   "wkid": 4326,
   "latestWkid": 4326
  }
 },
 "fullExtent": {
  "xmin": 30.10987390535128,
  "ymin": 50.26813198004649,
  "xmax": 30.430284795351277,
  "ymax": 50.72978929004649,
  "spatialReference": {
   "wkid": 4326,
   "latestWkid": 4326
  }
 },
 "sortableFields": "minps,maxps,lowps,highps,centerx,centery,zorder,st_area(shape),st_length(shape)",
 "bandCount": 3,
 "pixelType": "U8",
 "minValues": [
  0,
  0,
  0
 ],
 "maxValues": [
  255,
  255,
  255
 ],
 "meanValues": [
  119.0540264331457,
  124.72962769241353,
  126.90015033537883
 ],
 "stdvValues": [
  70.67463903976571,
  65.61502987636132,
  66.11818446753428
 ],
 "hasMultidimensions": false,
 "pixelSizeX": 4.489999999999972E-6,
 "pixelSizeY": 4.489999999999997E-6,
 "datasetFormat": "AMD",
 "uncompressedSize": 22011799977,
 "blockWidth": 2048,
 "blockHeight": 256,
 "compressionType": "None",
 "bandNames": [
  "Band_1",
  "Band_2",
  "Band_3"
 ],
 "allowCopy": true,
 "allowAnalysis": true,
 "minPixelSize": 0,
 "maxPixelSize": 0,
 "copyrightText": "",
 "serviceDataType": "esriImageServiceDataTypeRGB",
 "serviceSourceType": "esriImageServiceSourceTypeMosaicDataset",
 "objectIdField": "objectid",
 "fields": [
  {
   "name": "objectid",
   "type": "esriFieldTypeOID",
   "alias": "objectid",
   "domain": null
  },
  {
   "name": "name",
   "type": "esriFieldTypeString",
   "alias": "name",
   "domain": null,
   "length": 200
  },
  {
   "name": "minps",
   "type": "esriFieldTypeDouble",
   "alias": "minps",
   "domain": null
  },
  {
   "name": "maxps",
   "type": "esriFieldTypeDouble",
   "alias": "maxps",
   "domain": null
  },
  {
   "name": "lowps",
   "type": "esriFieldTypeDouble",
   "alias": "lowps",
   "domain": null
  },
  {
   "name": "highps",
   "type": "esriFieldTypeDouble",
   "alias": "highps",
   "domain": null
  },
  {
   "name": "category",
   "type": "esriFieldTypeInteger",
   "alias": "category",
   "domain": {
    "type": "codedValue",
    "name": "MosaicCatalogItemCategoryDomain",
    "description": "Catalog item categories.",
    "codedValues": [
     {
      "name": "Unknown",
      "code": 0
     },
     {
      "name": "Primary",
      "code": 1
     },
     {
      "name": "Overview",
      "code": 2
     },
     {
      "name": "Unprocessed Overview",
      "code": 3
     },
     {
      "name": "Partial Overview",
      "code": 4
     },
     {
      "name": "Inactive",
      "code": 5
     },
     {
      "name": "Uploaded",
      "code": 253
     },
     {
      "name": "Incomplete",
      "code": 254
     },
     {
      "name": "Custom",
      "code": 255
     }
    ],
    "mergePolicy": "esriMPTDefaultValue",
    "splitPolicy": "esriSPTDefaultValue"
   }
  },
  {
   "name": "tag",
   "type": "esriFieldTypeString",
   "alias": "tag",
   "domain": null,
   "length": 100
  },
  {
   "name": "groupname",
   "type": "esriFieldTypeString",
   "alias": "groupname",
   "domain": null,
   "length": 100
  },
  {
   "name": "productname",
   "type": "esriFieldTypeString",
   "alias": "productname",
   "domain": null,
   "length": 100
  },
  {
   "name": "centerx",
   "type": "esriFieldTypeDouble",
   "alias": "centerx",
   "domain": null
  },
  {
   "name": "centery",
   "type": "esriFieldTypeDouble",
   "alias": "centery",
   "domain": null
  },
  {
   "name": "zorder",
   "type": "esriFieldTypeInteger",
   "alias": "zorder",
   "domain": null
  },
  {
   "name": "shape",
   "type": "esriFieldTypeGeometry",
   "alias": "shape",
   "domain": null
  },
  {
   "name": "st_area(shape)",
   "type": "esriFieldTypeDouble",
   "alias": "st_area(shape)",
   "domain": null
  },
  {
   "name": "st_length(shape)",
   "type": "esriFieldTypeDouble",
   "alias": "st_length(shape)",
   "domain": null
  }
 ],
 "capabilities": "Image,Metadata,Catalog",
 "defaultMosaicMethod": "Northwest",
 "allowedMosaicMethods": "NorthWest,Center,LockRaster,ByAttribute,Nadir,Viewpoint,Seamline,None",
 "sortField": "",
 "sortValue": null,
 "sortAscending": true,
 "mosaicOperator": "First",
 "maxDownloadSizeLimit": 2048,
 "defaultCompressionQuality": 75,
 "defaultResamplingMethod": "Bilinear",
 "maxImageHeight": 4100,
 "maxImageWidth": 15000,
 "maxRecordCount": 1000,
 "maxDownloadImageCount": 20,
 "maxMosaicImageCount": 20000,
 "allowRasterFunction": true,
 "rasterFunctionInfos": [
  {
   "name": "None",
   "description": "Make a Raster or Raster Dataset into a Function Raster Dataset.",
   "help": ""
  }
 ],
 "rasterTypeInfos": [
  {
   "name": "Raster Dataset",
   "description": "Supports all ArcGIS Raster Datasets",
   "help": ""
  }
 ],
 "mensurationCapabilities": "None",
 "hasHistograms": true,
 "hasColormap": false,
 "hasRasterAttributeTable": false,
 "minScale": 0,
 "maxScale": 0,
 "exportTilesAllowed": false,
 "supportsStatistics": true,
 "supportsAdvancedQueries": true,
 "editFieldsInfo": null,
 "ownershipBasedAccessControlForRasters": null,
 "allowComputeTiePoints": false,
 "useStandardizedQueries": true,
 "advancedQueryCapabilities": {
  "useStandardizedQueries": true,
  "supportsStatistics": true,
  "supportsOrderBy": true,
  "supportsDistinct": true,
  "supportsPagination": true
 },
 "spatialReference": {
  "wkid": 4326,
  "latestWkid": 4326
 }
}
