View In:
ArcGIS JavaScript
ArcGIS Online Map Viewer
ArcGIS Earth
ArcMap
View Footprint In:
ArcGIS Online Map Viewer
Service Description: SSD/SSD_VIIRS
Name: SSD/SSD_VIIRS
Description:
Single Fused Map Cache: false
Extent:
XMin: 24.150083519448188
YMin: 3.4865861964888936
XMax: 35.950577670463254
YMax: 12.238422852023332
Spatial Reference: 4326
(4326)
Initial Extent:
XMin: 24.150083519448188
YMin: 3.4865861964888936
XMax: 35.950577670463254
YMax: 12.238422852023332
Spatial Reference: 4326
(4326)
Full Extent:
XMin: 24.150083519448188
YMin: 3.4865861964888936
XMax: 35.950577670463254
YMax: 12.238422852023332
Spatial Reference: 4326
(4326)
Pixel Size X: 0.003368682315448206
Pixel Size Y: 0.0033686823154482058
Band Count: 1
Pixel Type: F64
RasterFunction Infos: {"rasterFunctionInfos": [{
"name": "None",
"description": "",
"help": ""
}]}
Mensuration Capabilities: Basic
Has Histograms: true
Has Colormap: false
Has Multi Dimensions : false
Rendering Rule:
Min Scale: 0
Max Scale: 0
Copyright Text:
Service Data Type: esriImageServiceDataTypeGeneric
Min Values: 0
Max Values: 2
Mean Values: 0.095048346803433
Standard Deviation Values: 0.39091918616892
Object ID Field:
Fields:
None
Default Mosaic Method: Center
Allowed Mosaic Methods:
SortField:
SortValue: null
Mosaic Operator: First
Default Compression Quality: 75
Default Resampling Method: Nearest
Max Record Count: null
Max Image Height: 4100
Max Image Width: 15000
Max Download Image Count: null
Max Mosaic Image Count: null
Allow Raster Function: true
Allow Copy: true
Allow Analysis: true
Allow Compute TiePoints: false
Supports Statistics: false
Supports Advanced Queries: false
Use StandardizedQueries: true
Raster Type Infos:
Name: Raster Dataset
Description: Supports all ArcGIS Raster Datasets
Help:
Has Raster Attribute Table: false
Edit Fields Info: null
Ownership Based AccessControl For Rasters: null
Child Resources:
Info
Histograms
Statistics
Key Properties
Legend
Raster Function Infos
Supported Operations:
Export Image
Identify
Measure
Compute Histograms
Compute Statistics Histograms
Get Samples
Compute Class Statistics
Query Boundary
Compute Pixel Location
Compute Angles
Validate
Project