{
 "currentVersion": 11.0,
 "serviceDescription": "GLOBAL/landscan_global_2022_tif",
 "name": "GLOBAL/landscan_global_2022_tif",
 "description": "",
 "extent": {
  "xmin": -180,
  "ymin": -90,
  "xmax": 179.99999999999858,
  "ymax": 89.99999999999929,
  "spatialReference": {
   "wkid": 4326,
   "latestWkid": 4326
  }
 },
 "initialExtent": {
  "xmin": -180,
  "ymin": -90,
  "xmax": 179.99999999999858,
  "ymax": 89.99999999999929,
  "spatialReference": {
   "wkid": 4326,
   "latestWkid": 4326
  }
 },
 "fullExtent": {
  "xmin": -180,
  "ymin": -90,
  "xmax": 179.99999999999858,
  "ymax": 89.99999999999929,
  "spatialReference": {
   "wkid": 4326,
   "latestWkid": 4326
  }
 },
 "sortableFields": "",
 "bandCount": 1,
 "pixelType": "S32",
 "minValues": [
  0
 ],
 "maxValues": [
  175750
 ],
 "meanValues": [
  24.833676149856
 ],
 "stdvValues": [
  366.64575030043
 ],
 "hasMultidimensions": false,
 "pixelSizeX": 0.0083333333333333,
 "pixelSizeY": 0.0083333333333333,
 "datasetFormat": "TIFF",
 "uncompressedSize": 3732480000,
 "blockWidth": 512,
 "blockHeight": 512,
 "compressionType": "DEFLATE",
 "bandNames": [
  "Band_1"
 ],
 "allowCopy": true,
 "allowAnalysis": true,
 "noDataValue": -2147483647,
 "noDataValues": [
  -2147483647
 ],
 "minPixelSize": 0,
 "maxPixelSize": 0,
 "copyrightText": "",
 "serviceDataType": "esriImageServiceDataTypeGeneric",
 "serviceSourceType": "esriImageServiceSourceTypeDataset",
 "objectIdField": "",
 "fields": [],
 "capabilities": "Image,Metadata,Mensuration",
 "defaultMosaicMethod": "Center",
 "allowedMosaicMethods": "",
 "sortField": "",
 "sortValue": null,
 "sortAscending": true,
 "mosaicOperator": "First",
 "defaultCompressionQuality": 75,
 "defaultResamplingMethod": "Bilinear",
 "maxImageHeight": 4100,
 "maxImageWidth": 15000,
 "allowRasterFunction": true,
 "rasterFunctionInfos": [
  {
   "name": "None",
   "description": "",
   "help": ""
  }
 ],
 "rasterTypeInfos": [
  {
   "name": "Raster Dataset",
   "description": "Supports all ArcGIS Raster Datasets",
   "help": ""
  }
 ],
 "mensurationCapabilities": "Basic",
 "hasHistograms": true,
 "hasColormap": false,
 "hasRasterAttributeTable": false,
 "minScale": 0,
 "maxScale": 0,
 "exportTilesAllowed": false,
 "supportsStatistics": false,
 "supportsAdvancedQueries": false,
 "editFieldsInfo": null,
 "ownershipBasedAccessControlForRasters": null,
 "allowComputeTiePoints": false,
 "useStandardizedQueries": true,
 "advancedQueryCapabilities": {
  "useStandardizedQueries": true,
  "supportsStatistics": false,
  "supportsOrderBy": false,
  "supportsDistinct": false,
  "supportsPagination": false
 },
 "spatialReference": {
  "wkid": 4326,
  "latestWkid": 4326
 }
}
